BEGIN:VCALENDAR
VERSION:2.0
PRODID:-//Women Housing And Income Providers of Chicago - ECPv6.15.20//NONSGML v1.0//EN
CALSCALE:GREGORIAN
METHOD:PUBLISH
X-WR-CALNAME:Women Housing And Income Providers of Chicago
X-ORIGINAL-URL:https://whipchicago.org
X-WR-CALDESC:Events for Women Housing And Income Providers of Chicago
REFRESH-INTERVAL;VALUE=DURATION:PT1H
X-Robots-Tag:noindex
X-PUBLISHED-TTL:PT1H
BEGIN:VTIMEZONE
TZID:America/Chicago
BEGIN:DAYLIGHT
TZOFFSETFROM:-0600
TZOFFSETTO:-0500
TZNAME:CDT
DTSTART:20250309T080000
END:DAYLIGHT
BEGIN:STANDARD
TZOFFSETFROM:-0500
TZOFFSETTO:-0600
TZNAME:CST
DTSTART:20251102T070000
END:STANDARD
BEGIN:DAYLIGHT
TZOFFSETFROM:-0600
TZOFFSETTO:-0500
TZNAME:CDT
DTSTART:20260308T080000
END:DAYLIGHT
BEGIN:STANDARD
TZOFFSETFROM:-0500
TZOFFSETTO:-0600
TZNAME:CST
DTSTART:20261101T070000
END:STANDARD
BEGIN:DAYLIGHT
TZOFFSETFROM:-0600
TZOFFSETTO:-0500
TZNAME:CDT
DTSTART:20270314T080000
END:DAYLIGHT
BEGIN:STANDARD
TZOFFSETFROM:-0500
TZOFFSETTO:-0600
TZNAME:CST
DTSTART:20271107T070000
END:STANDARD
END:VTIMEZONE
BEGIN:VEVENT
DTSTART;TZID=America/Chicago:20260618T173000
DTEND;TZID=America/Chicago:20260618T173000
DTSTAMP:20260425T093354
CREATED:20260318T211559Z
LAST-MODIFIED:20260414T003726Z
UID:1726-1781803800-1781803800@whipchicago.org
SUMMARY:Networking Cookout
DESCRIPTION:Events are always free for members! \n\n  \nGet your hands dirty with WHIP. Enjoy cocktails and conversation with our community. Leave with a small potted plant to signify the growth of women in real estate. (gloves will be provided) \n 
URL:https://whipchicago.org/event/networking-cookout/
LOCATION:Edgewater (Must register for location)
ATTACH;FMTTYPE=image/jpeg:https://whipchicago.org/wp-content/uploads/whip-bbq-eventpage.jpg
END:VEVENT
END:VCALENDAR