BEGIN:VCALENDAR
VERSION:2.0
PRODID:-//Women Housing And Income Providers of Chicago - ECPv6.15.20//NONSGML v1.0//EN
CALSCALE:GREGORIAN
METHOD:PUBLISH
X-ORIGINAL-URL:https://whipchicago.org
X-WR-CALDESC:Events for Women Housing And Income Providers of Chicago
REFRESH-INTERVAL;VALUE=DURATION:PT1H
X-Robots-Tag:noindex
X-PUBLISHED-TTL:PT1H
BEGIN:VTIMEZONE
TZID:America/Chicago
BEGIN:DAYLIGHT
TZOFFSETFROM:-0600
TZOFFSETTO:-0500
TZNAME:CDT
DTSTART:20230312T080000
END:DAYLIGHT
BEGIN:STANDARD
TZOFFSETFROM:-0500
TZOFFSETTO:-0600
TZNAME:CST
DTSTART:20231105T070000
END:STANDARD
BEGIN:DAYLIGHT
TZOFFSETFROM:-0600
TZOFFSETTO:-0500
TZNAME:CDT
DTSTART:20240310T080000
END:DAYLIGHT
BEGIN:STANDARD
TZOFFSETFROM:-0500
TZOFFSETTO:-0600
TZNAME:CST
DTSTART:20241103T070000
END:STANDARD
BEGIN:DAYLIGHT
TZOFFSETFROM:-0600
TZOFFSETTO:-0500
TZNAME:CDT
DTSTART:20250309T080000
END:DAYLIGHT
BEGIN:STANDARD
TZOFFSETFROM:-0500
TZOFFSETTO:-0600
TZNAME:CST
DTSTART:20251102T070000
END:STANDARD
BEGIN:DAYLIGHT
TZOFFSETFROM:-0600
TZOFFSETTO:-0500
TZNAME:CDT
DTSTART:20260308T080000
END:DAYLIGHT
BEGIN:STANDARD
TZOFFSETFROM:-0500
TZOFFSETTO:-0600
TZNAME:CST
DTSTART:20261101T070000
END:STANDARD
BEGIN:DAYLIGHT
TZOFFSETFROM:-0600
TZOFFSETTO:-0500
TZNAME:CDT
DTSTART:20270314T080000
END:DAYLIGHT
BEGIN:STANDARD
TZOFFSETFROM:-0500
TZOFFSETTO:-0600
TZNAME:CST
DTSTART:20271107T070000
END:STANDARD
END:VTIMEZONE
BEGIN:VEVENT
DTSTART;TZID=America/Chicago:20260312T120000
DTEND;TZID=America/Chicago:20260312T140000
DTSTAMP:20260425T150234
CREATED:20251210T174021Z
LAST-MODIFIED:20260318T214506Z
UID:1601-1773316800-1773324000@whipchicago.org
SUMMARY:Staying Out of Trouble: A Ladylord’s Guide to 2026 Laws
DESCRIPTION:We hosted a powerful lunch-and-learn focused on the key legal changes coming in 2026 and what property owners\, managers\, investors\, and trades professionals need to know to stay protected. \nThank you to everyone who joined us for an engaging and informative power lunch focused on the legal changes coming in 2026. Together\, we explored what property owners\, managers\, investors\, and trades professionals need to know to stay protected\, make informed decisions\, and lead with confidence. \nCreated for women in real estate\, this event offered valuable insights for those looking to strengthen their knowledge\, run their buildings more strategically\, and stay ahead of the legal curve. \nGuests enjoyed bites and drinks while hearing from featured speakers Anna Maria Viti-Welch\, President & Agent of The VITI Companies\, and Erika L. Finley\, founder of the Law Office of Erika L. Finley\, both of whom brought deep expertise and practical guidance to the conversation. \n\n\nDate & Time\nThursday\, March 12th\n12:00 PM Noon \nLocation\nEssex Realty\n2718 W Roscoe St #100A\nChicago\, IL 60618\n\nFeatured Speakers\n\nAnna Maria Viti-Welch\nPresident & Agent\, The VITI Companies \nAnna Maria Viti-Welch has over 30 years of experience in the insurance industry and serves as President of The VITI Companies\, a third-generation\, family-owned independent insurance agency celebrating its 87th year.\nShe actively partners with innovation hubs such as mHUB\, The Hatchery\, and Good Food to advise entrepreneurs and founders on business insurance strategies. Anna Maria also mentors through organizations like 1871\, the Women’s Business Development Center\, SCORE\, and the Polsky Center\, among others. \nThe VITI Companies provides customized insurance solutions for both individuals and businesses\, serving operations with annual revenues ranging from $3\,000 to $100 million. Anna Maria specializes in General Liability\, Workers’ Compensation\, Auto\, Umbrella\, Professional Liability\, Property\, and Cyber insurance. She also offers personal insurance for Home\, Auto\, Umbrella\, Boat\, and Motorcycle coverage. \nLicensed in most states and partnered with a wide range of insurance carriers\, The VITI Companies offers clients flexible\, tailored options to fit their unique needs. She’s phenomenal\, and has a long history of advocating for women in real estate. \n  \nErika L. Finley \nErika is an experienced real estate and probate attorney and founder of the Law Office of Erika L. Finley. Erika was born in the west suburbs of Illinois and she attended the University of Illinois at Chicago for undergrad and attended The John Marshall Law School in Chicago for Law School. Erika is passionate about representing and educating her clients. Erika is also compassionate. She listens to her client’s needs and goes over and beyond to try to meet all of their needs. Erika also handles every aspect of her client’s case from your initial consultation to all communication regarding the progress of your case. Erika enjoys traveling\, working out\, and being with her family and friends. \n\n\nWho Attended\nWomen entrepreneurs\, owners\, investors\, managers\, and trades professionals—\nand anyone who wants to lead smarter in 2026.
URL:https://whipchicago.org/event/staying-out-of-trouble-a-ladylords-guide-to-2026-laws/
LOCATION:Essex Realty\, 2718 W Roscoe\, Suite 100A\, Chicago\, IL\, 60618\, United States
ATTACH;FMTTYPE=image/jpeg:https://whipchicago.org/wp-content/uploads/Speakers-Rev-2-1.jpg
END:VEVENT
BEGIN:VEVENT
DTSTART;TZID=America/Chicago:20251121T170000
DTEND;TZID=America/Chicago:20251121T190000
DTSTAMP:20260425T150234
CREATED:20251119T185229Z
LAST-MODIFIED:20251119T185619Z
UID:1568-1763744400-1763751600@whipchicago.org
SUMMARY:Thanksgiving Dinner
DESCRIPTION:The Encompassing Center is so excited to be of service to the residents of North Lawndale\, East and West Garfield Park\, and Near Westside Communities.   The trained staff at The Encompassing Center meet people where they are\, without judgement and do the best they can for everyone that comes through the door. \nCome visit us for Thanksgiving Dinner on Friday November 21st.
URL:https://whipchicago.org/event/thanksgiving-dinner/
LOCATION:Breakthrough Familyplex\, 3219 West Carroll Street\, Chicago\, IL\, 60624\, United States
END:VEVENT
BEGIN:VEVENT
DTSTART;TZID=America/Chicago:20251113T120000
DTEND;TZID=America/Chicago:20251113T140000
DTSTAMP:20260425T150234
CREATED:20250702T154356Z
LAST-MODIFIED:20251202T164108Z
UID:880-1763035200-1763042400@whipchicago.org
SUMMARY:Talking Women & Money with First Women’s Bank
DESCRIPTION:WHIP Chicago celebrated its 2nd Anniversary and met Emily Mattes\, Senior Vice President of Business Banking for First Women’s Bank. Emily brought more than 15 years of experience in the banking and finance industry. She was passionate about building strong\, lasting relationships with clients to help them thrive in today’s competitive market. Her dedication to empowering women in business and closing the gender lending gap has been a driving force in helping small business owners achieve their financial goals. \nFirst Women’s Bank is the only mission-driven\, women-founded\, women-run bank that specifically supports the women’s economy\, elevates the role of women in business\, and addresses the gender lending gap through its services and resources. \nThis program was hosted by Essex Realty Group\, in partnership with WHIP Chicago. Light bites and refreshments were served.
URL:https://whipchicago.org/event/drinks-and-smart-women-2/
LOCATION:Essex Realty\, 2718 W Roscoe\, Suite 100A\, Chicago\, IL\, 60618\, United States
ATTACH;FMTTYPE=image/jpeg:https://whipchicago.org/wp-content/uploads/Emily-Mattes-event-page-900x500-1.jpg
END:VEVENT
BEGIN:VEVENT
DTSTART;TZID=America/Chicago:20250918T120000
DTEND;TZID=America/Chicago:20250918T140000
DTSTAMP:20260425T150234
CREATED:20250714T214345Z
LAST-MODIFIED:20250924T192139Z
UID:1110-1758196800-1758204000@whipchicago.org
SUMMARY:Granny Flats\, ADUs & the New Laws: What Every Chicago Owner Needs to Know
DESCRIPTION:Calling all powerhouse women in real estate.Whether you manage buildings\, close deals\, juggle tenants\, or are just getting your start—this is for you. \nChicago’s housing laws are shifting—fast. If you own rental property\, staying on top of the changes isn’t optional. It’s survival. \nJoin WHIP for a high-impact lunch session featuring Judy Frydland\, former Commissioner of the Chicago Department of Buildings—now a powerhouse attorney helping owners and investors navigate the city’s maze of building codes\, permits\, and compliance traps. From backyard units to bureaucratic black holes\, she’s seen it all—and knows how to keep you out of trouble. \nWe’ll also hear from Ari Rakic of Westward360\, one of the fastest-growing property management firms in the city. She’ll share what it’s like being a woman in charge in a fast-paced market—and how she keeps her cool while scaling big. \nWe’re diving into: \n\nGranny flats and ADUs: what the new ordinances actually let you do\nKey changes to the RLTO\, permitting\, and enforcement\nA rundown of Matt Martin’s latest push to ban “junk fees” (yes\, that includes move-in\, admin\, and utility fees)\nAnd the chaos around the Northwest Side Preservation Ordinance “Block 606 Tenant Opportunity to Purchase Pilot Program” —where two aldermen want out of the very law others are calling the future of housing equity\n\nPlus: A lineup of other legal and industry pros will be in the room to break it all down and answer your toughest questions. \nLight bites and drinks included.\nParking is easy—there’s a paid lot across the street and street parking available
URL:https://whipchicago.org/event/tbd-future-event/
LOCATION:Westward360\, 1464 W Webster Ave\, Chicago\, IL\, 60614\, United States
ATTACH;FMTTYPE=image/jpeg:https://whipchicago.org/wp-content/uploads/judy_frydland_headshot_crop_2.jpg
END:VEVENT
BEGIN:VEVENT
DTSTART;TZID=America/Chicago:20250612T173000
DTEND;TZID=America/Chicago:20250612T193000
DTSTAMP:20260425T150234
CREATED:20250513T145848Z
LAST-MODIFIED:20250708T220506Z
UID:446-1749749400-1749756600@whipchicago.org
SUMMARY:Drinks and Smart Women
DESCRIPTION:Calling all powerhouse women in real estate.Whether you manage buildings\, close deals\, juggle tenants\, or are just getting your start—this is for you. \nJoin us at 422 E Oakwood in Chicago for a fabulous\, no-pressure hangout with some of the sharpest\, smartest\, most stylish women in the game. We’re talking shop\, sharing stories\, laughing loud\, and lifting each other up—no panels\, no agenda. Just real talk and real connections. \nEasy street parking.Even easier vibes.Come thirsty—for knowledge\, for connections\, or just for wine. \nLet’s run this city like we own every damn block. (Because some of us do.)
URL:https://whipchicago.org/event/drinks-and-smart-women/
LOCATION:The Wyatt House\, 442 E Oakwood Blvd\, Chicago\, IL\, 60653\, United States
ATTACH;FMTTYPE=image/jpeg:https://whipchicago.org/wp-content/uploads/drinksandsmartwomen_featured.jpg
END:VEVENT
BEGIN:VEVENT
DTSTART;TZID=America/Chicago:20250417T120000
DTEND;TZID=America/Chicago:20250417T133000
DTSTAMP:20260425T150234
CREATED:20250408T223210Z
LAST-MODIFIED:20250708T165705Z
UID:426-1744891200-1744896600@whipchicago.org
SUMMARY:Growing Your Portfolio - Getting Bigger and Badder
DESCRIPTION:Ready to level up? This isn’t your average real estate seminar. Women Housing & Income Providers is bringing together powerhouse women and bold strategies for building serious portfolios. We’re diving into what it takes to scale smart\, grow fast\, and lead with intention. Expect real talk\, tangible takeaways\, and a room full of ambitious energy. If you’re done playing small\, this is where the next chapter begins. Bring your drive—and a backup pen. You’ll want to catch every gem. \nOn the panel: \nGarrett Leigh of Essex 312 is a multifamily investment specialist with a sharp eye for three- to twelve-unit properties across Chicago’s North Side. With a background in institutional real estate acquisitions\, Garrett brings serious strategy to every transaction and knows how to navigate complex deals with clarity and precision. \nJovita Baber of Historic Homes is bringing new life to East Garfield Park—one historic building at a time. Her mission: preserve Chicago’s architectural soul while creating beautiful\, affordable housing. With each rehab\, she’s proving that community investment can be both profitable and powerful. \nBonita Harrison of Sunshine Management is a force in affordable housing and community development in East Lawndale. She’s revitalized \nover 100 properties\, generated $25 million in Black community wealth\, and created hundreds of jobs. Bonita doesn’t just build buildings—she builds legacies. \nThese trailblazers are here to share how they got where they are\, what they’re doing now\, and what you can learn to grow bigger\, badder\, and \nbolder in your own real estate journey. \n 
URL:https://whipchicago.org/event/growing-your-portfolio-getting-bigger-and-badder/
LOCATION:Essex Realty\, 2718 W Roscoe\, Suite 100A\, Chicago\, IL\, 60618\, United States
ATTACH;FMTTYPE=image/jpeg:https://whipchicago.org/wp-content/uploads/Bigger_badder_2.jpg
END:VEVENT
BEGIN:VEVENT
DTSTART;TZID=America/Chicago:20241114T180000
DTEND;TZID=America/Chicago:20241114T200000
DTSTAMP:20260425T150234
CREATED:20240514T191514Z
LAST-MODIFIED:20250708T220627Z
UID:80-1731607200-1731614400@whipchicago.org
SUMMARY:Show Me The Money - Fund Your Next Deal
DESCRIPTION:Disrupt the status quo where bold ideas meet edgy investments. \nGet insider tips from traditional and unconventional vendors on funding your next big project. Discover profitable properties\, master fund leveraging\, and decide if self-management is your game or a gamble. Take charge of your financial future—are you ready? \nJoin us for WHIP’s first anniversary!\nSmall bites and drinks provided.\nReserve your spot—tickets are limited.\nParking reservations recommended.
URL:https://whipchicago.org/event/women-take-charge-mastering-the-money-game/
LOCATION:Origins Investments\, 121 W Wacker Dr\, Chicago\, IL\, 60601\, United States
ATTACH;FMTTYPE=image/jpeg:https://whipchicago.org/wp-content/uploads/Showmethemoney_featured.jpg
END:VEVENT
BEGIN:VEVENT
DTSTART;TZID=America/Chicago:20240912T120000
DTEND;TZID=America/Chicago:20240912T140000
DTSTAMP:20260425T150234
CREATED:20240514T190717Z
LAST-MODIFIED:20240612T004702Z
UID:74-1726142400-1726149600@whipchicago.org
SUMMARY:Ladylording 101: Women Get It Done
DESCRIPTION:
URL:https://whipchicago.org/event/ladylords-women-redefining-property-management/
LOCATION:Essex Realty\, 2718 W Roscoe\, Suite 100A\, Chicago\, IL\, 60618\, United States
END:VEVENT
END:VCALENDAR